BEGIN:VCALENDAR
VERSION:2.0
PRODID:-//Tukios.com/
BEGIN:VEVENT
UID:0c4328e1-50ee-4466-88e3-b0bd84a1c693@www.dalyleachchapel.com
DTSTAMP:20260422T195244Z
DTSTART:20260427T183000Z
DTEND:20260427T193000Z
SUMMARY:Interment
DESCRIPTION:
URL:https://www.dalyleachchapel.com/obituaries/david-james-rouse
LOCATION:Western Montana State Veterans Cemetery 1911 Tower Street  
	Missoula MT 59804
GEO:46.8532772;-114.0595778
END:VEVENT
END:VCALENDAR