BEGIN:VCALENDAR
VERSION:2.0
PRODID:-//Tukios.com/
BEGIN:VEVENT
UID:e7e1c65d-801b-4148-bfc7-10537b1eb067@www.dalyleachchapel.com
DTSTAMP:20260421T211546Z
DTSTART:20260427T210000Z
DTEND:20260427T220000Z
SUMMARY:Celebration of Life
DESCRIPTION:
URL:https://www.dalyleachchapel.com/obituaries/david-rouse
LOCATION: 1010 West Main Street  Hamilton MT 59840
GEO:46.2469909;-114.1698277
END:VEVENT
END:VCALENDAR