BEGIN:VCALENDAR
VERSION:2.0
PRODID:-//Tukios.com/
BEGIN:VEVENT
UID:ee07928a-533d-4dc5-a81d-b9a9a0ebd5b9@www.dalyleachchapel.com
DTSTAMP:20260423T083646Z
DTSTART:20260419T193000Z
DTEND:20260419T203000Z
SUMMARY:Interment
DESCRIPTION:
URL:https://www.dalyleachchapel.com/obituaries/jeffrey-huls
LOCATION:Corvallis Cemetery 460 Corvallis Cemetery Road  Corvallis MT 
	59828
GEO:46.2982806;-114.1031464
END:VEVENT
END:VCALENDAR