BEGIN:VCALENDAR
VERSION:2.0
PRODID:-//Tukios.com/
BEGIN:VEVENT
UID:a2eff49c-7dc2-4cb5-aee0-99d384465429@www.dalyleachchapel.com
DTSTAMP:20260421T090001Z
DTSTART:20260419T210000Z
DTEND:20260419T220000Z
SUMMARY:Celebration of Life
DESCRIPTION:
URL:https://www.dalyleachchapel.com/obituaries/jeffrey-huls
LOCATION:Hamilton Assembly of God 601 West Main Street  Hamilton MT 59840
GEO:46.2463859;-114.1634197
END:VEVENT
END:VCALENDAR